Name | Last modified | Size | Description | |
---|---|---|---|---|
Parent Directory | - | |||
buildsrc-out.txt | 18-Apr-2024 00:36 | 838 | ||
buildsrc-summary.dcf | 18-Apr-2024 00:36 | 412 | ||
checksrc-out.txt | 18-Apr-2024 00:36 | 3.9K | ||
checksrc-summary.dcf | 18-Apr-2024 00:36 | 413 | ||
install-out.txt | 18-Apr-2024 00:36 | 1.2K | ||
install-summary.dcf | 18-Apr-2024 00:36 | 255 | ||