Index of /checkResults/3.18/bioc-LATEST/GUIDEseq/raw-results/kunpeng2
Name
Last modified
Size
Description
Parent Directory
-
buildsrc-out.txt
03-Nov-2023 00:40
37K
buildsrc-summary.dcf
03-Nov-2023 00:40
330
install-out.txt
03-Nov-2023 00:40
951
install-summary.dcf
03-Nov-2023 00:40
255