Name | Last modified | Size | Description | |
---|---|---|---|---|
Parent Directory | - | |||
install-summary.dcf | 18-Apr-2024 00:37 | 269 | ||
buildsrc-summary.dcf | 18-Apr-2024 00:37 | 427 | ||
checksrc-summary.dcf | 18-Apr-2024 00:37 | 448 | ||
buildbin-summary.dcf | 18-Apr-2024 00:37 | 529 | ||
buildsrc-out.txt | 18-Apr-2024 00:37 | 879 | ||
install-out.txt | 18-Apr-2024 00:37 | 1.1K | ||
buildbin-out.txt | 18-Apr-2024 00:37 | 1.3K | ||
checksrc-out.txt | 18-Apr-2024 00:37 | 5.2K | ||