Name | Last modified | Size | Description | |
---|---|---|---|---|
Parent Directory | - | |||
buildsrc-out.txt | 18-Apr-2024 00:35 | 1.3K | ||
buildsrc-summary.dcf | 18-Apr-2024 00:35 | 432 | ||
checksrc-out.txt | 18-Apr-2024 00:35 | 5.6K | ||
checksrc-summary.dcf | 18-Apr-2024 00:35 | 434 | ||
install-out.txt | 18-Apr-2024 00:35 | 2.1K | ||
install-summary.dcf | 18-Apr-2024 00:35 | 269 | ||