Name | Last modified | Size | Description | |
---|---|---|---|---|
Parent Directory | - | |||
buildsrc-out.txt | 03-Nov-2023 00:40 | 1.3K | ||
buildsrc-summary.dcf | 03-Nov-2023 00:40 | 427 | ||
checksrc-out.txt | 03-Nov-2023 00:40 | 5.6K | ||
checksrc-summary.dcf | 03-Nov-2023 00:40 | 437 | ||
install-out.txt | 03-Nov-2023 00:40 | 2.0K | ||
install-summary.dcf | 03-Nov-2023 00:40 | 263 | ||