Index of /checkResults/3.18/bioc-LATEST/DiffBind/raw-results
Name
Last modified
Size
Description
Parent Directory
-
info.dcf
18-Apr-2024 00:35
277
kunpeng2/
03-Nov-2023 00:40
-
lconway/
05-Mar-2024 01:37
-
merida1/
18-Apr-2024 00:37
-
nebbiolo2/
18-Apr-2024 00:35
-
palomino4/
18-Apr-2024 00:36
-