Name | Last modified | Size | Description | |
---|---|---|---|---|
Parent Directory | - | |||
install-summary.dcf | 18-Apr-2024 00:36 | 279 | ||
install-out.txt | 18-Apr-2024 00:36 | 1.2K | ||
checksrc-summary.dcf | 18-Apr-2024 00:36 | 475 | ||
checksrc-out.txt | 18-Apr-2024 00:36 | 4.8K | ||
buildsrc-summary.dcf | 18-Apr-2024 00:36 | 475 | ||
buildsrc-out.txt | 18-Apr-2024 00:36 | 901 | ||
buildbin-summary.dcf | 18-Apr-2024 00:36 | 548 | ||
buildbin-out.txt | 18-Apr-2024 00:36 | 1.4K | ||