Name | Last modified | Size | Description | |
---|---|---|---|---|
Parent Directory | - | |||
install-out.txt | 18-Apr-2024 00:35 | 1.0K | ||
install-summary.dcf | 18-Apr-2024 00:35 | 251 | ||
buildsrc-out.txt | 18-Apr-2024 00:35 | 790 | ||
buildsrc-summary.dcf | 18-Apr-2024 00:35 | 405 | ||
checksrc-out.txt | 18-Apr-2024 00:35 | 4.8K | ||
checksrc-summary.dcf | 18-Apr-2024 00:35 | 402 | ||