Name | Last modified | Size | Description | |
---|---|---|---|---|
Parent Directory | - | |||
buildsrc-out.txt | 18-Apr-2024 00:35 | 826 | ||
buildsrc-summary.dcf | 18-Apr-2024 00:35 | 433 | ||
checksrc-out.txt | 18-Apr-2024 00:35 | 4.5K | ||
checksrc-summary.dcf | 18-Apr-2024 00:35 | 439 | ||
install-out.txt | 18-Apr-2024 00:35 | 1.2K | ||
install-summary.dcf | 18-Apr-2024 00:35 | 270 | ||