Name | Last modified | Size | Description | |
---|---|---|---|---|
Parent Directory | - | |||
checksrc-out.txt | 18-Apr-2024 00:36 | 3.7K | ||
buildbin-out.txt | 18-Apr-2024 00:36 | 1.1K | ||
install-out.txt | 18-Apr-2024 00:36 | 1.0K | ||
buildsrc-out.txt | 18-Apr-2024 00:36 | 829 | ||
buildbin-summary.dcf | 18-Apr-2024 00:36 | 502 | ||
buildsrc-summary.dcf | 18-Apr-2024 00:36 | 445 | ||
checksrc-summary.dcf | 18-Apr-2024 00:36 | 439 | ||
install-summary.dcf | 18-Apr-2024 00:36 | 264 | ||