Name | Last modified | Size | Description | |
---|---|---|---|---|
Parent Directory | - | |||
install-summary.dcf | 03-Nov-2023 00:40 | 249 | ||
install-out.txt | 03-Nov-2023 00:40 | 1.0K | ||
checksrc-summary.dcf | 03-Nov-2023 00:40 | 413 | ||
checksrc-out.txt | 03-Nov-2023 00:40 | 5.3K | ||
buildsrc-summary.dcf | 03-Nov-2023 00:40 | 406 | ||
buildsrc-out.txt | 03-Nov-2023 00:40 | 792 | ||