Index of /checkResults/3.17/workflows-LATEST/BiocMetaWorkflow/raw-results
Name
Last modified
Size
Description
Parent Directory
-
info.dcf
14-Oct-2023 03:00
286
merida1/
14-Oct-2023 03:00
-
nebbiolo1/
14-Oct-2023 03:00
-
palomino3/
14-Oct-2023 03:00
-