Name | Last modified | Size | Description | |
---|---|---|---|---|
Parent Directory | - | |||
buildsrc-out.txt | 13-Oct-2023 03:51 | 817 | ||
buildsrc-summary.dcf | 13-Oct-2023 03:51 | 422 | ||
checksrc-out.txt | 13-Oct-2023 03:51 | 3.3K | ||
checksrc-summary.dcf | 13-Oct-2023 03:51 | 424 | ||
install-out.txt | 13-Oct-2023 03:51 | 961 | ||
install-summary.dcf | 13-Oct-2023 03:51 | 264 | ||