Name | Last modified | Size | Description | |
---|---|---|---|---|
Parent Directory | - | |||
install-summary.dcf | 13-Oct-2023 03:51 | 263 | ||
buildsrc-summary.dcf | 13-Oct-2023 03:51 | 422 | ||
checksrc-summary.dcf | 13-Oct-2023 03:51 | 422 | ||
buildsrc-out.txt | 13-Oct-2023 03:51 | 805 | ||
install-out.txt | 13-Oct-2023 03:51 | 1.0K | ||
checksrc-out.txt | 13-Oct-2023 03:51 | 2.9K | ||