Name | Last modified | Size | Description | |
---|---|---|---|---|
Parent Directory | - | |||
buildsrc-out.txt | 13-Oct-2023 03:51 | 782 | ||
buildsrc-summary.dcf | 13-Oct-2023 03:51 | 452 | ||
checksrc-out.txt | 13-Oct-2023 03:51 | 3.0K | ||
checksrc-summary.dcf | 13-Oct-2023 03:51 | 461 | ||
install-out.txt | 13-Oct-2023 03:51 | 964 | ||
install-summary.dcf | 13-Oct-2023 03:51 | 282 | ||