Index of /checkResults/3.17/data-experiment-LATEST/RcisTarget.hg19.motifDBs.cisbpOnly.500bp/raw-results
Name
Last modified
Size
Description
Parent Directory
-
info.dcf
13-Oct-2023 03:51
341
nebbiolo1/
13-Oct-2023 03:51
-