Name | Last modified | Size | Description | |
---|---|---|---|---|
Parent Directory | - | |||
buildsrc-out.txt | 13-Oct-2023 03:51 | 861 | ||
buildsrc-summary.dcf | 13-Oct-2023 03:51 | 428 | ||
checksrc-out.txt | 13-Oct-2023 03:51 | 3.8K | ||
checksrc-summary.dcf | 13-Oct-2023 03:51 | 429 | ||
install-out.txt | 13-Oct-2023 03:51 | 964 | ||
install-summary.dcf | 13-Oct-2023 03:51 | 266 | ||