Name | Last modified | Size | Description | |
---|---|---|---|---|
Parent Directory | - | |||
buildsrc-out.txt | 13-Oct-2023 03:51 | 854 | ||
buildsrc-summary.dcf | 13-Oct-2023 03:51 | 452 | ||
checksrc-out.txt | 13-Oct-2023 03:51 | 6.9K | ||
checksrc-summary.dcf | 13-Oct-2023 03:51 | 466 | ||
install-out.txt | 13-Oct-2023 03:51 | 930 | ||
install-summary.dcf | 13-Oct-2023 03:51 | 282 | ||