Index of /checkResults/3.17/data-annotation-LATEST/scAnnotatR.models/raw-results/nebbiolo1
Name
Last modified
Size
Description
Parent Directory
-
buildsrc-out.txt
11-Oct-2023 21:30
1.2K
buildsrc-summary.dcf
11-Oct-2023 21:30
354
install-out.txt
11-Oct-2023 21:30
1.0K
install-summary.dcf
11-Oct-2023 21:30
279