Index of /checkResults/3.17/data-annotation-LATEST/rat2302frmavecs/raw-results
Name
Last modified
Size
Description
Parent Directory
-
nebbiolo1/
11-Oct-2023 21:30
-
info.dcf
11-Oct-2023 21:30
289