Index of /checkResults/3.17/data-annotation-LATEST/phastCons30way.UCSC.hg38/raw-results
Name
Last modified
Size
Description
Parent Directory
-
info.dcf
11-Oct-2023 21:30
309
nebbiolo1/
11-Oct-2023 21:30
-