Name | Last modified | Size | Description | |
---|---|---|---|---|
Parent Directory | - | |||
checksrc-summary.dcf | 11-Oct-2023 21:30 | 437 | ||
checksrc-out.txt | 11-Oct-2023 21:30 | 3.4K | ||
install-summary.dcf | 11-Oct-2023 21:30 | 270 | ||
install-out.txt | 11-Oct-2023 21:30 | 1.0K | ||
buildsrc-summary.dcf | 11-Oct-2023 21:30 | 435 | ||
buildsrc-out.txt | 11-Oct-2023 21:30 | 830 | ||