Name | Last modified | Size | Description | |
---|---|---|---|---|
Parent Directory | - | |||
buildsrc-out.txt | 11-Oct-2023 21:30 | 826 | ||
buildsrc-summary.dcf | 11-Oct-2023 21:30 | 431 | ||
checksrc-out.txt | 11-Oct-2023 21:30 | 2.7K | ||
checksrc-summary.dcf | 11-Oct-2023 21:30 | 432 | ||
install-out.txt | 11-Oct-2023 21:30 | 960 | ||
install-summary.dcf | 11-Oct-2023 21:30 | 268 | ||