Name | Last modified | Size | Description | |
---|---|---|---|---|
Parent Directory | - | |||
install-summary.dcf | 11-Oct-2023 21:30 | 270 | ||
buildsrc-summary.dcf | 11-Oct-2023 21:30 | 434 | ||
checksrc-summary.dcf | 11-Oct-2023 21:30 | 436 | ||
buildsrc-out.txt | 11-Oct-2023 21:30 | 867 | ||
install-out.txt | 11-Oct-2023 21:30 | 967 | ||
checksrc-out.txt | 11-Oct-2023 21:30 | 3.7K | ||