Index of /checkResults/3.17/data-annotation-LATEST/EuPathDB/raw-results/nebbiolo1
Name
Last modified
Size
Description
Parent Directory
-
install-summary.dcf
11-Oct-2023 21:30
260
install-out.txt
11-Oct-2023 21:30
955
buildsrc-summary.dcf
11-Oct-2023 21:30
334
buildsrc-out.txt
11-Oct-2023 21:30
1.3K