Name | Last modified | Size | Description | |
---|---|---|---|---|
Parent Directory | - | |||
buildsrc-out.txt | 11-Oct-2023 21:30 | 795 | ||
buildsrc-summary.dcf | 11-Oct-2023 21:30 | 410 | ||
checksrc-out.txt | 11-Oct-2023 21:30 | 3.1K | ||
checksrc-summary.dcf | 11-Oct-2023 21:30 | 403 | ||
install-out.txt | 11-Oct-2023 21:30 | 963 | ||
install-summary.dcf | 11-Oct-2023 21:30 | 253 | ||