Name | Last modified | Size | Description | |
---|---|---|---|---|
Parent Directory | - | |||
buildsrc-out.txt | 11-Oct-2023 21:30 | 886 | ||
buildsrc-summary.dcf | 11-Oct-2023 21:30 | 445 | ||
checksrc-out.txt | 11-Oct-2023 21:30 | 2.6K | ||
checksrc-summary.dcf | 11-Oct-2023 21:30 | 453 | ||
install-out.txt | 11-Oct-2023 21:30 | 1.0K | ||
install-summary.dcf | 11-Oct-2023 21:30 | 279 | ||