Index of /checkResults/3.17/data-annotation-LATEST/AHWikipathwaysDbs/raw-results
Name
Last modified
Size
Description
Parent Directory
-
info.dcf
11-Oct-2023 21:30
293
nebbiolo1/
11-Oct-2023 21:30
-