Name | Last modified | Size | Description | |
---|---|---|---|---|
Parent Directory | - | |||
checksrc-out.txt | 11-Oct-2023 21:30 | 2.8K | ||
install-out.txt | 11-Oct-2023 21:30 | 906 | ||
buildsrc-out.txt | 11-Oct-2023 21:30 | 888 | ||
checksrc-summary.dcf | 11-Oct-2023 21:30 | 429 | ||
buildsrc-summary.dcf | 11-Oct-2023 21:30 | 429 | ||
install-summary.dcf | 11-Oct-2023 21:30 | 266 | ||