Name | Last modified | Size | Description | |
---|---|---|---|---|
Parent Directory | - | |||
buildsrc-out.txt | 11-Oct-2023 21:30 | 880 | ||
buildsrc-summary.dcf | 11-Oct-2023 21:30 | 423 | ||
checksrc-out.txt | 11-Oct-2023 21:30 | 2.8K | ||
checksrc-summary.dcf | 11-Oct-2023 21:30 | 421 | ||
install-out.txt | 11-Oct-2023 21:30 | 900 | ||
install-summary.dcf | 11-Oct-2023 21:30 | 262 | ||