Index of /checkResults/3.17/books-LATEST/OSCA.workflows/raw-results/nebbiolo1
Name
Last modified
Size
Description
Parent Directory
-
buildsrc-summary.dcf
17-Oct-2023 03:00
438
install-out.txt
17-Oct-2023 03:00
968
install-summary.dcf
17-Oct-2023 03:00
272
buildsrc-out.txt
17-Oct-2023 03:00
1.9K