Index of /checkResults/3.17/books-LATEST/OSCA.workflows/raw-results
Name
Last modified
Size
Description
Parent Directory
-
info.dcf
17-Oct-2023 03:00
286
nebbiolo1/
17-Oct-2023 03:00
-