Index of /checkResults/3.17/books-LATEST/OSCA.multisample/raw-results/nebbiolo1
Name
Last modified
Size
Description
Parent Directory
-
buildsrc-out.txt
17-Oct-2023 03:00
2.2K
buildsrc-summary.dcf
17-Oct-2023 03:00
444
install-out.txt
17-Oct-2023 03:00
1.0K
install-summary.dcf
17-Oct-2023 03:00
276