Index of /checkResults/3.17/books-LATEST/OSCA.intro/raw-results/nebbiolo1
Name
Last modified
Size
Description
Parent Directory
-
install-summary.dcf
17-Oct-2023 03:00
264
install-out.txt
17-Oct-2023 03:00
952
buildsrc-summary.dcf
17-Oct-2023 03:00
425
buildsrc-out.txt
17-Oct-2023 03:00
817