Name | Last modified | Size | Description | |
---|---|---|---|---|
Parent Directory | - | |||
buildbin-out.txt | 20-Oct-2023 22:38 | 1.2K | ||
buildbin-summary.dcf | 20-Oct-2023 22:38 | 536 | ||
buildsrc-out.txt | 20-Oct-2023 22:38 | 820 | ||
buildsrc-summary.dcf | 20-Oct-2023 22:38 | 431 | ||
checksrc-out.txt | 20-Oct-2023 22:38 | 3.9K | ||
checksrc-summary.dcf | 20-Oct-2023 22:38 | 448 | ||
install-out.txt | 20-Oct-2023 22:38 | 1.0K | ||
install-summary.dcf | 20-Oct-2023 22:38 | 271 | ||