Index of /checkResults/3.17/bioc-mac-arm64-LATEST/qrqc/raw-results/kjohnson2
Name
Last modified
Size
Description
Parent Directory
-
buildsrc-out.txt
20-Oct-2023 22:38
4.9K
buildsrc-summary.dcf
20-Oct-2023 22:38
336
install-out.txt
20-Oct-2023 22:38
4.7K
install-summary.dcf
20-Oct-2023 22:38
265