Name | Last modified | Size | Description | |
---|---|---|---|---|
Parent Directory | - | |||
buildbin-out.txt | 20-Oct-2023 22:38 | 6.4K | ||
buildbin-summary.dcf | 20-Oct-2023 22:38 | 545 | ||
buildsrc-out.txt | 20-Oct-2023 22:38 | 897 | ||
buildsrc-summary.dcf | 20-Oct-2023 22:38 | 435 | ||
checksrc-out.txt | 20-Oct-2023 22:38 | 4.7K | ||
checksrc-summary.dcf | 20-Oct-2023 22:38 | 454 | ||
install-out.txt | 20-Oct-2023 22:38 | 4.3K | ||
install-summary.dcf | 20-Oct-2023 22:38 | 274 | ||