Name | Last modified | Size | Description | |
---|---|---|---|---|
Parent Directory | - | |||
buildbin-summary.dcf | 20-Oct-2023 22:38 | 548 | ||
buildbin-out.txt | 20-Oct-2023 22:38 | 7.0K | ||
checksrc-out.txt | 20-Oct-2023 22:38 | 9.9K | ||
checksrc-summary.dcf | 20-Oct-2023 22:38 | 462 | ||
buildsrc-out.txt | 20-Oct-2023 22:38 | 858 | ||
install-summary.dcf | 20-Oct-2023 22:38 | 275 | ||
install-out.txt | 20-Oct-2023 22:38 | 3.9K | ||
buildsrc-summary.dcf | 20-Oct-2023 22:38 | 436 | ||