Index of /checkResults/3.17/bioc-mac-arm64-LATEST/biobtreeR/raw-results
Name
Last modified
Size
Description
Parent Directory
-
info.dcf
29-Apr-2023 00:00
259
kjohnson2/
29-Apr-2023 00:00
-