Index of /checkResults/3.17/bioc-mac-arm64-LATEST/anota/raw-results
Name
Last modified
Size
Description
Parent Directory
-
info.dcf
20-Oct-2023 22:37
263
kjohnson2/
20-Oct-2023 22:37
-