Name | Last modified | Size | Description | |
---|---|---|---|---|
Parent Directory | - | |||
buildbin-out.txt | 20-Oct-2023 22:38 | 41K | ||
buildbin-summary.dcf | 20-Oct-2023 22:38 | 534 | ||
buildsrc-out.txt | 20-Oct-2023 22:38 | 965 | ||
buildsrc-summary.dcf | 20-Oct-2023 22:38 | 428 | ||
checksrc-out.txt | 20-Oct-2023 22:38 | 12K | ||
checksrc-summary.dcf | 20-Oct-2023 22:38 | 450 | ||
install-out.txt | 20-Oct-2023 22:38 | 40K | ||
install-summary.dcf | 20-Oct-2023 22:38 | 271 | ||