Name | Last modified | Size | Description | |
---|---|---|---|---|
Parent Directory | - | |||
install-summary.dcf | 20-Oct-2023 22:37 | 273 | ||
install-out.txt | 20-Oct-2023 22:37 | 2.0K | ||
checksrc-summary.dcf | 20-Oct-2023 22:37 | 452 | ||
checksrc-out.txt | 20-Oct-2023 22:37 | 12K | ||
buildsrc-summary.dcf | 20-Oct-2023 22:37 | 433 | ||
buildsrc-out.txt | 20-Oct-2023 22:37 | 917 | ||
buildbin-summary.dcf | 20-Oct-2023 22:37 | 542 | ||
buildbin-out.txt | 20-Oct-2023 22:37 | 3.9K | ||