Name | Last modified | Size | Description | |
---|---|---|---|---|
Parent Directory | - | |||
install-summary.dcf | 20-Oct-2023 22:37 | 273 | ||
install-out.txt | 20-Oct-2023 22:37 | 1.2K | ||
checksrc-summary.dcf | 20-Oct-2023 22:37 | 458 | ||
checksrc-out.txt | 20-Oct-2023 22:37 | 4.0K | ||
buildsrc-summary.dcf | 20-Oct-2023 22:37 | 433 | ||
buildsrc-out.txt | 20-Oct-2023 22:37 | 887 | ||
buildbin-summary.dcf | 20-Oct-2023 22:37 | 541 | ||
buildbin-out.txt | 20-Oct-2023 22:37 | 1.4K | ||