Index of /checkResults/3.17/bioc-mac-arm64-LATEST/BiGGR/raw-results
Name
Last modified
Size
Description
Parent Directory
-