Index of /checkResults/3.17/bioc-longtests-LATEST/rhdf5/raw-results/palomino3
Name
Last modified
Size
Description
Parent Directory
-
checksrc-summary.dcf
15-Oct-2023 10:30
453
buildsrc-summary.dcf
15-Oct-2023 10:30
477
buildsrc-out.txt
15-Oct-2023 10:30
1.0K
checksrc-out.txt
15-Oct-2023 10:30
4.5K