Index of /checkResults/3.17/bioc-longtests-LATEST/midasHLA/raw-results/nebbiolo1
Name
Last modified
Size
Description
Parent Directory
-
buildsrc-out.txt
15-Oct-2023 10:30
770
buildsrc-summary.dcf
15-Oct-2023 10:30
450
checksrc-out.txt
15-Oct-2023 10:30
4.2K
checksrc-summary.dcf
15-Oct-2023 10:30
434