Index of /checkResults/3.17/bioc-longtests-LATEST/extraChIPs/raw-results/palomino3
Name
Last modified
Size
Description
Parent Directory
-
buildsrc-out.txt
15-Oct-2023 10:30
888
buildsrc-summary.dcf
15-Oct-2023 10:30
495
checksrc-out.txt
15-Oct-2023 10:30
3.5K
checksrc-summary.dcf
15-Oct-2023 10:30
462