Index of /checkResults/3.17/bioc-longtests-LATEST/extraChIPs/raw-results/nebbiolo1
Name
Last modified
Size
Description
Parent Directory
-
buildsrc-out.txt
15-Oct-2023 10:30
856
buildsrc-summary.dcf
15-Oct-2023 10:30
456
checksrc-out.txt
15-Oct-2023 10:30
3.6K
checksrc-summary.dcf
15-Oct-2023 10:30
436