Index of /checkResults/3.17/bioc-longtests-LATEST/cBioPortalData/raw-results/merida1
Name
Last modified
Size
Description
Parent Directory
-
buildsrc-out.txt
15-Oct-2023 10:30
805
buildsrc-summary.dcf
15-Oct-2023 10:30
481
checksrc-out.txt
15-Oct-2023 10:30
3.9K
checksrc-summary.dcf
15-Oct-2023 10:30
465