Index of /checkResults/3.17/bioc-longtests-LATEST/biodbKegg/raw-results/nebbiolo1
Name
Last modified
Size
Description
Parent Directory
-
buildsrc-out.txt
15-Oct-2023 10:30
774
buildsrc-summary.dcf
15-Oct-2023 10:30
453
checksrc-out.txt
15-Oct-2023 10:30
3.8K
checksrc-summary.dcf
15-Oct-2023 10:30
437